BEGIN:VCALENDAR
VERSION:2.0
PRODID:-//Seaglass - ECPv6.15.20//NONSGML v1.0//EN
CALSCALE:GREGORIAN
METHOD:PUBLISH
X-WR-CALNAME:Seaglass
X-ORIGINAL-URL:https://www.seaglassoceanside.com
X-WR-CALDESC:Events for Seaglass
REFRESH-INTERVAL;VALUE=DURATION:PT1H
X-Robots-Tag:noindex
X-PUBLISHED-TTL:PT1H
BEGIN:VTIMEZONE
TZID:UTC
BEGIN:STANDARD
TZOFFSETFROM:+0000
TZOFFSETTO:+0000
TZNAME:UTC
DTSTART:20230101T000000
END:STANDARD
END:VTIMEZONE
BEGIN:VEVENT
DTSTART;TZID=UTC:20240605T160000
DTEND;TZID=UTC:20240605T200000
DTSTAMP:20260421T045403
CREATED:20200131T173705Z
LAST-MODIFIED:20260102T162254Z
UID:20317-1717603200-1717617600@www.seaglassoceanside.com
SUMMARY:Wednesday Buck a Shuck
DESCRIPTION:It’s a Shellebration!\n$1 Oysters and $2 Shrimp.\nFresh. Local. Succulent. \nAvailable 4PM-8PM.\nBar + Lounge Tables. \nNot Available On Show Nights
URL:https://www.seaglassoceanside.com/event/wednesday-raw-bar-2020-07-01/2024-06-05/
CATEGORIES:Weekly Happenings
ATTACH;FMTTYPE=image/jpeg:https://www.seaglassoceanside.com/wp-content/uploads/2020/01/Buck-a-Shuck-Web-519x371-1.jpg
END:VEVENT
BEGIN:VEVENT
DTSTART;TZID=UTC:20240612T160000
DTEND;TZID=UTC:20240612T200000
DTSTAMP:20260421T045403
CREATED:20200131T173705Z
LAST-MODIFIED:20260102T162254Z
UID:20318-1718208000-1718222400@www.seaglassoceanside.com
SUMMARY:Wednesday Buck a Shuck
DESCRIPTION:It’s a Shellebration!\n$1 Oysters and $2 Shrimp.\nFresh. Local. Succulent. \nAvailable 4PM-8PM.\nBar + Lounge Tables. \nNot Available On Show Nights
URL:https://www.seaglassoceanside.com/event/wednesday-raw-bar-2020-07-01/2024-06-12/
CATEGORIES:Weekly Happenings
ATTACH;FMTTYPE=image/jpeg:https://www.seaglassoceanside.com/wp-content/uploads/2020/01/Buck-a-Shuck-Web-519x371-1.jpg
END:VEVENT
BEGIN:VEVENT
DTSTART;TZID=UTC:20240619T160000
DTEND;TZID=UTC:20240619T200000
DTSTAMP:20260421T045403
CREATED:20200131T173705Z
LAST-MODIFIED:20260102T162254Z
UID:20319-1718812800-1718827200@www.seaglassoceanside.com
SUMMARY:Wednesday Buck a Shuck
DESCRIPTION:It’s a Shellebration!\n$1 Oysters and $2 Shrimp.\nFresh. Local. Succulent. \nAvailable 4PM-8PM.\nBar + Lounge Tables. \nNot Available On Show Nights
URL:https://www.seaglassoceanside.com/event/wednesday-raw-bar-2020-07-01/2024-06-19/
CATEGORIES:Weekly Happenings
ATTACH;FMTTYPE=image/jpeg:https://www.seaglassoceanside.com/wp-content/uploads/2020/01/Buck-a-Shuck-Web-519x371-1.jpg
END:VEVENT
END:VCALENDAR