BEGIN:VCALENDAR
VERSION:2.0
PRODID:-//Seaglass - ECPv6.15.20//NONSGML v1.0//EN
CALSCALE:GREGORIAN
METHOD:PUBLISH
X-WR-CALNAME:Seaglass
X-ORIGINAL-URL:https://www.seaglassoceanside.com
X-WR-CALDESC:Events for Seaglass
REFRESH-INTERVAL;VALUE=DURATION:PT1H
X-Robots-Tag:noindex
X-PUBLISHED-TTL:PT1H
BEGIN:VTIMEZONE
TZID:UTC
BEGIN:STANDARD
TZOFFSETFROM:+0000
TZOFFSETTO:+0000
TZNAME:UTC
DTSTART:20250101T000000
END:STANDARD
END:VTIMEZONE
BEGIN:VEVENT
DTSTART;TZID=UTC:20260426T100000
DTEND;TZID=UTC:20260426T140000
DTSTAMP:20260425T150536
CREATED:20250923T175514Z
LAST-MODIFIED:20260413T172543Z
UID:27227-1777197600-1777212000@www.seaglassoceanside.com
SUMMARY:Sunday Brunch & Vibes
DESCRIPTION:Join us for Sunday Brunch by the Sea featuring delicious twists on all your favorite brunch classics. Soak in the seaside sunshine every Sunday while sipping on craft cocktails and enjoying coastal tunes from talented local musicians. Indulge in our Mimosa Flights\, featuring a variety of refreshing flavors to elevate your brunch experience. Grab your pals\, fam\, or date and join us for this seaside Sunday affair. Serving Brunch every Sunday from 10AM-2PM. \nLIVE MUSIC – Sundays | 11AM-2PM \nAPRIL\n05 | No Music (Easter Sunday)\n12 | Andrew Somerville\n19 | Crooners Brunch –\nSinatra\, Bennett & Buble Classics\, performed by Eric McFadden\n26 | Marybeth Maes \nMAY\n03 | Brian Maes\n10 | No Music (Mother’s Day)\n17 | Marybeth Maes\n24 | Kevin Herrera \nJUNE\n07 |Broadway Brunch performed by Jordan Quinn\n14 | Kevin Herrera
URL:https://www.seaglassoceanside.com/event/sunday-brunch-vibes-3/2026-04-26/
CATEGORIES:Weekly Happenings
ATTACH;FMTTYPE=image/jpeg:https://www.seaglassoceanside.com/wp-content/uploads/2025/04/Sunday-Brunch-Vibes-519x371-2.jpg
END:VEVENT
BEGIN:VEVENT
DTSTART;TZID=UTC:20260428T160000
DTEND;TZID=UTC:20260428T200000
DTSTAMP:20260425T150536
CREATED:20250902T160742Z
LAST-MODIFIED:20260210T153148Z
UID:26892-1777392000-1777406400@www.seaglassoceanside.com
SUMMARY:Tuesday $8 Burger Bargain
DESCRIPTION:GREAT EATS\nJuicy 8oz Prime Burger\nLettuce & Tomato\, Fresh Bun\nCrispy Housemade Chips\nWeekly Secret Burger \nGREAT VIBES\nCozy Bar & Lounge\nSports on 5 HD TVs\nFriends & Fun \nGREAT PRICE!\n4-8PM\nIn Bar & Lounge Only \nNot Available on Show Nights 
URL:https://www.seaglassoceanside.com/event/8-bargain-burger-night/2026-04-28/
CATEGORIES:Weekly Happenings
ATTACH;FMTTYPE=image/jpeg:https://www.seaglassoceanside.com/wp-content/uploads/2024/08/Web-Size.jpg
END:VEVENT
BEGIN:VEVENT
DTSTART;TZID=UTC:20260430T180000
DTEND;TZID=UTC:20260430T200000
DTSTAMP:20260425T150536
CREATED:20260326T165703Z
LAST-MODIFIED:20260406T200725Z
UID:28046-1777572000-1777579200@www.seaglassoceanside.com
SUMMARY:Blooms & Bubbles - A Floral Arrangement Class by the Sea
DESCRIPTION:A midweek escape with fresh seasonal flowers\, bubbly\, and chef-curated bites. \nLed by The Hive of Newburyport\, this hands-on class will guide you in creating a professionally styled arrangement — with tips on flower prep\, color balance\, and design techniques. \nEVENT INCLUDES | A welcome glass of house champagne | Small bites\nAll flowers and greenery | A take-home vase | A pro-tip card \nPerfect for a girls’ night\, or for anyone who loves flowers\, food\, & a little sparkle. \nTicket includes everything you need — just show up ready to sip\, snack\, and create.\nThurs\, April 30\, 6-8PM | $85pp | Limited seating. | Advance reservations required. \nBOOK NOW
URL:https://www.seaglassoceanside.com/event/blooms-bubbles-a-floral-arrangement-class-by-the-sea/
CATEGORIES:Weekly Happenings
ATTACH;FMTTYPE=image/jpeg:https://www.seaglassoceanside.com/wp-content/uploads/2026/03/web-v2.jpg
END:VEVENT
END:VCALENDAR