BEGIN:VCALENDAR
VERSION:2.0
PRODID:-//Seaglass - ECPv6.15.20//NONSGML v1.0//EN
CALSCALE:GREGORIAN
METHOD:PUBLISH
X-ORIGINAL-URL:https://www.seaglassoceanside.com
X-WR-CALDESC:Events for Seaglass
REFRESH-INTERVAL;VALUE=DURATION:PT1H
X-Robots-Tag:noindex
X-PUBLISHED-TTL:PT1H
BEGIN:VTIMEZONE
TZID:UTC
BEGIN:STANDARD
TZOFFSETFROM:+0000
TZOFFSETTO:+0000
TZNAME:UTC
DTSTART:20250101T000000
END:STANDARD
END:VTIMEZONE
BEGIN:VEVENT
DTSTART;TZID=UTC:20260428T160000
DTEND;TZID=UTC:20260428T200000
DTSTAMP:20260423T135335
CREATED:20250902T160742Z
LAST-MODIFIED:20260210T153148Z
UID:26892-1777392000-1777406400@www.seaglassoceanside.com
SUMMARY:Tuesday $8 Burger Bargain
DESCRIPTION:GREAT EATS\nJuicy 8oz Prime Burger\nLettuce & Tomato\, Fresh Bun\nCrispy Housemade Chips\nWeekly Secret Burger \nGREAT VIBES\nCozy Bar & Lounge\nSports on 5 HD TVs\nFriends & Fun \nGREAT PRICE!\n4-8PM\nIn Bar & Lounge Only \nNot Available on Show Nights 
URL:https://www.seaglassoceanside.com/event/8-bargain-burger-night/2026-04-28/
CATEGORIES:Weekly Happenings
ATTACH;FMTTYPE=image/jpeg:https://www.seaglassoceanside.com/wp-content/uploads/2024/08/Web-Size.jpg
END:VEVENT
BEGIN:VEVENT
DTSTART;TZID=UTC:20260505T160000
DTEND;TZID=UTC:20260505T200000
DTSTAMP:20260423T135335
CREATED:20250902T160742Z
LAST-MODIFIED:20260210T153148Z
UID:26893-1777996800-1778011200@www.seaglassoceanside.com
SUMMARY:Tuesday $8 Burger Bargain
DESCRIPTION:GREAT EATS\nJuicy 8oz Prime Burger\nLettuce & Tomato\, Fresh Bun\nCrispy Housemade Chips\nWeekly Secret Burger \nGREAT VIBES\nCozy Bar & Lounge\nSports on 5 HD TVs\nFriends & Fun \nGREAT PRICE!\n4-8PM\nIn Bar & Lounge Only \nNot Available on Show Nights 
URL:https://www.seaglassoceanside.com/event/8-bargain-burger-night/2026-05-05/
CATEGORIES:Weekly Happenings
ATTACH;FMTTYPE=image/jpeg:https://www.seaglassoceanside.com/wp-content/uploads/2024/08/Web-Size.jpg
END:VEVENT
BEGIN:VEVENT
DTSTART;TZID=UTC:20260512T160000
DTEND;TZID=UTC:20260512T200000
DTSTAMP:20260423T135335
CREATED:20250902T160742Z
LAST-MODIFIED:20260210T153148Z
UID:26894-1778601600-1778616000@www.seaglassoceanside.com
SUMMARY:Tuesday $8 Burger Bargain
DESCRIPTION:GREAT EATS\nJuicy 8oz Prime Burger\nLettuce & Tomato\, Fresh Bun\nCrispy Housemade Chips\nWeekly Secret Burger \nGREAT VIBES\nCozy Bar & Lounge\nSports on 5 HD TVs\nFriends & Fun \nGREAT PRICE!\n4-8PM\nIn Bar & Lounge Only \nNot Available on Show Nights 
URL:https://www.seaglassoceanside.com/event/8-bargain-burger-night/2026-05-12/
CATEGORIES:Weekly Happenings
ATTACH;FMTTYPE=image/jpeg:https://www.seaglassoceanside.com/wp-content/uploads/2024/08/Web-Size.jpg
END:VEVENT
BEGIN:VEVENT
DTSTART;TZID=UTC:20260519T160000
DTEND;TZID=UTC:20260519T200000
DTSTAMP:20260423T135335
CREATED:20250902T160742Z
LAST-MODIFIED:20260210T153148Z
UID:26895-1779206400-1779220800@www.seaglassoceanside.com
SUMMARY:Tuesday $8 Burger Bargain
DESCRIPTION:GREAT EATS\nJuicy 8oz Prime Burger\nLettuce & Tomato\, Fresh Bun\nCrispy Housemade Chips\nWeekly Secret Burger \nGREAT VIBES\nCozy Bar & Lounge\nSports on 5 HD TVs\nFriends & Fun \nGREAT PRICE!\n4-8PM\nIn Bar & Lounge Only \nNot Available on Show Nights 
URL:https://www.seaglassoceanside.com/event/8-bargain-burger-night/2026-05-19/
CATEGORIES:Weekly Happenings
ATTACH;FMTTYPE=image/jpeg:https://www.seaglassoceanside.com/wp-content/uploads/2024/08/Web-Size.jpg
END:VEVENT
BEGIN:VEVENT
DTSTART;TZID=UTC:20260526T160000
DTEND;TZID=UTC:20260526T200000
DTSTAMP:20260423T135335
CREATED:20250902T160742Z
LAST-MODIFIED:20260210T153149Z
UID:26896-1779811200-1779825600@www.seaglassoceanside.com
SUMMARY:Tuesday $8 Burger Bargain
DESCRIPTION:GREAT EATS\nJuicy 8oz Prime Burger\nLettuce & Tomato\, Fresh Bun\nCrispy Housemade Chips\nWeekly Secret Burger \nGREAT VIBES\nCozy Bar & Lounge\nSports on 5 HD TVs\nFriends & Fun \nGREAT PRICE!\n4-8PM\nIn Bar & Lounge Only \nNot Available on Show Nights 
URL:https://www.seaglassoceanside.com/event/8-bargain-burger-night/2026-05-26/
CATEGORIES:Weekly Happenings
ATTACH;FMTTYPE=image/jpeg:https://www.seaglassoceanside.com/wp-content/uploads/2024/08/Web-Size.jpg
END:VEVENT
BEGIN:VEVENT
DTSTART;TZID=UTC:20260602T160000
DTEND;TZID=UTC:20260602T200000
DTSTAMP:20260423T135335
CREATED:20250902T160742Z
LAST-MODIFIED:20260210T153149Z
UID:26897-1780416000-1780430400@www.seaglassoceanside.com
SUMMARY:Tuesday $8 Burger Bargain
DESCRIPTION:GREAT EATS\nJuicy 8oz Prime Burger\nLettuce & Tomato\, Fresh Bun\nCrispy Housemade Chips\nWeekly Secret Burger \nGREAT VIBES\nCozy Bar & Lounge\nSports on 5 HD TVs\nFriends & Fun \nGREAT PRICE!\n4-8PM\nIn Bar & Lounge Only \nNot Available on Show Nights 
URL:https://www.seaglassoceanside.com/event/8-bargain-burger-night/2026-06-02/
CATEGORIES:Weekly Happenings
ATTACH;FMTTYPE=image/jpeg:https://www.seaglassoceanside.com/wp-content/uploads/2024/08/Web-Size.jpg
END:VEVENT
BEGIN:VEVENT
DTSTART;TZID=UTC:20260609T160000
DTEND;TZID=UTC:20260609T200000
DTSTAMP:20260423T135335
CREATED:20250902T160742Z
LAST-MODIFIED:20260210T153149Z
UID:26898-1781020800-1781035200@www.seaglassoceanside.com
SUMMARY:Tuesday $8 Burger Bargain
DESCRIPTION:GREAT EATS\nJuicy 8oz Prime Burger\nLettuce & Tomato\, Fresh Bun\nCrispy Housemade Chips\nWeekly Secret Burger \nGREAT VIBES\nCozy Bar & Lounge\nSports on 5 HD TVs\nFriends & Fun \nGREAT PRICE!\n4-8PM\nIn Bar & Lounge Only \nNot Available on Show Nights 
URL:https://www.seaglassoceanside.com/event/8-bargain-burger-night/2026-06-09/
CATEGORIES:Weekly Happenings
ATTACH;FMTTYPE=image/jpeg:https://www.seaglassoceanside.com/wp-content/uploads/2024/08/Web-Size.jpg
END:VEVENT
END:VCALENDAR