BEGIN:VCALENDAR
VERSION:2.0
PRODID:-//Seaglass - ECPv6.15.20//NONSGML v1.0//EN
CALSCALE:GREGORIAN
METHOD:PUBLISH
X-ORIGINAL-URL:https://www.seaglassoceanside.com
X-WR-CALDESC:Events for Seaglass
REFRESH-INTERVAL;VALUE=DURATION:PT1H
X-Robots-Tag:noindex
X-PUBLISHED-TTL:PT1H
BEGIN:VTIMEZONE
TZID:UTC
BEGIN:STANDARD
TZOFFSETFROM:+0000
TZOFFSETTO:+0000
TZNAME:UTC
DTSTART:20240101T000000
END:STANDARD
END:VTIMEZONE
BEGIN:VEVENT
DTSTART;TZID=UTC:20260421T160000
DTEND;TZID=UTC:20260421T200000
DTSTAMP:20260423T152745
CREATED:20250902T160742Z
LAST-MODIFIED:20260210T153148Z
UID:26891-1776787200-1776801600@www.seaglassoceanside.com
SUMMARY:Tuesday $8 Burger Bargain
DESCRIPTION:GREAT EATS\nJuicy 8oz Prime Burger\nLettuce & Tomato\, Fresh Bun\nCrispy Housemade Chips\nWeekly Secret Burger \nGREAT VIBES\nCozy Bar & Lounge\nSports on 5 HD TVs\nFriends & Fun \nGREAT PRICE!\n4-8PM\nIn Bar & Lounge Only \nNot Available on Show Nights 
URL:https://www.seaglassoceanside.com/event/8-bargain-burger-night/2026-04-21/
CATEGORIES:Weekly Happenings
ATTACH;FMTTYPE=image/jpeg:https://www.seaglassoceanside.com/wp-content/uploads/2024/08/Web-Size.jpg
END:VEVENT
BEGIN:VEVENT
DTSTART;TZID=UTC:20260414T160000
DTEND;TZID=UTC:20260414T200000
DTSTAMP:20260423T152745
CREATED:20250902T160742Z
LAST-MODIFIED:20260210T153146Z
UID:26890-1776182400-1776196800@www.seaglassoceanside.com
SUMMARY:Tuesday $8 Burger Bargain
DESCRIPTION:GREAT EATS\nJuicy 8oz Prime Burger\nLettuce & Tomato\, Fresh Bun\nCrispy Housemade Chips\nWeekly Secret Burger \nGREAT VIBES\nCozy Bar & Lounge\nSports on 5 HD TVs\nFriends & Fun \nGREAT PRICE!\n4-8PM\nIn Bar & Lounge Only \nNot Available on Show Nights 
URL:https://www.seaglassoceanside.com/event/8-bargain-burger-night/2026-04-14/
CATEGORIES:Weekly Happenings
ATTACH;FMTTYPE=image/jpeg:https://www.seaglassoceanside.com/wp-content/uploads/2024/08/Web-Size.jpg
END:VEVENT
BEGIN:VEVENT
DTSTART;TZID=UTC:20260407T160000
DTEND;TZID=UTC:20260407T200000
DTSTAMP:20260423T152745
CREATED:20250902T160742Z
LAST-MODIFIED:20260210T153146Z
UID:26889-1775577600-1775592000@www.seaglassoceanside.com
SUMMARY:Tuesday $8 Burger Bargain
DESCRIPTION:GREAT EATS\nJuicy 8oz Prime Burger\nLettuce & Tomato\, Fresh Bun\nCrispy Housemade Chips\nWeekly Secret Burger \nGREAT VIBES\nCozy Bar & Lounge\nSports on 5 HD TVs\nFriends & Fun \nGREAT PRICE!\n4-8PM\nIn Bar & Lounge Only \nNot Available on Show Nights 
URL:https://www.seaglassoceanside.com/event/8-bargain-burger-night/2026-04-07/
CATEGORIES:Weekly Happenings
ATTACH;FMTTYPE=image/jpeg:https://www.seaglassoceanside.com/wp-content/uploads/2024/08/Web-Size.jpg
END:VEVENT
BEGIN:VEVENT
DTSTART;TZID=UTC:20260331T160000
DTEND;TZID=UTC:20260331T200000
DTSTAMP:20260423T152745
CREATED:20250902T160742Z
LAST-MODIFIED:20260210T153145Z
UID:26888-1774972800-1774987200@www.seaglassoceanside.com
SUMMARY:Tuesday $8 Burger Bargain
DESCRIPTION:GREAT EATS\nJuicy 8oz Prime Burger\nLettuce & Tomato\, Fresh Bun\nCrispy Housemade Chips\nWeekly Secret Burger \nGREAT VIBES\nCozy Bar & Lounge\nSports on 5 HD TVs\nFriends & Fun \nGREAT PRICE!\n4-8PM\nIn Bar & Lounge Only \nNot Available on Show Nights 
URL:https://www.seaglassoceanside.com/event/8-bargain-burger-night/2026-03-31/
CATEGORIES:Weekly Happenings
ATTACH;FMTTYPE=image/jpeg:https://www.seaglassoceanside.com/wp-content/uploads/2024/08/Web-Size.jpg
END:VEVENT
BEGIN:VEVENT
DTSTART;TZID=UTC:20260324T160000
DTEND;TZID=UTC:20260324T200000
DTSTAMP:20260423T152745
CREATED:20250902T160742Z
LAST-MODIFIED:20260210T153145Z
UID:26887-1774368000-1774382400@www.seaglassoceanside.com
SUMMARY:Tuesday $8 Burger Bargain
DESCRIPTION:GREAT EATS\nJuicy 8oz Prime Burger\nLettuce & Tomato\, Fresh Bun\nCrispy Housemade Chips\nWeekly Secret Burger \nGREAT VIBES\nCozy Bar & Lounge\nSports on 5 HD TVs\nFriends & Fun \nGREAT PRICE!\n4-8PM\nIn Bar & Lounge Only \nNot Available on Show Nights 
URL:https://www.seaglassoceanside.com/event/8-bargain-burger-night/2026-03-24/
CATEGORIES:Weekly Happenings
ATTACH;FMTTYPE=image/jpeg:https://www.seaglassoceanside.com/wp-content/uploads/2024/08/Web-Size.jpg
END:VEVENT
BEGIN:VEVENT
DTSTART;TZID=UTC:20260317T160000
DTEND;TZID=UTC:20260317T200000
DTSTAMP:20260423T152745
CREATED:20250902T160742Z
LAST-MODIFIED:20260210T153144Z
UID:26886-1773763200-1773777600@www.seaglassoceanside.com
SUMMARY:Tuesday $8 Burger Bargain
DESCRIPTION:GREAT EATS\nJuicy 8oz Prime Burger\nLettuce & Tomato\, Fresh Bun\nCrispy Housemade Chips\nWeekly Secret Burger \nGREAT VIBES\nCozy Bar & Lounge\nSports on 5 HD TVs\nFriends & Fun \nGREAT PRICE!\n4-8PM\nIn Bar & Lounge Only \nNot Available on Show Nights 
URL:https://www.seaglassoceanside.com/event/8-bargain-burger-night/2026-03-17/
CATEGORIES:Weekly Happenings
ATTACH;FMTTYPE=image/jpeg:https://www.seaglassoceanside.com/wp-content/uploads/2024/08/Web-Size.jpg
END:VEVENT
BEGIN:VEVENT
DTSTART;TZID=UTC:20260310T160000
DTEND;TZID=UTC:20260310T200000
DTSTAMP:20260423T152745
CREATED:20250902T160742Z
LAST-MODIFIED:20260210T153144Z
UID:26885-1773158400-1773172800@www.seaglassoceanside.com
SUMMARY:Tuesday $8 Burger Bargain
DESCRIPTION:GREAT EATS\nJuicy 8oz Prime Burger\nLettuce & Tomato\, Fresh Bun\nCrispy Housemade Chips\nWeekly Secret Burger \nGREAT VIBES\nCozy Bar & Lounge\nSports on 5 HD TVs\nFriends & Fun \nGREAT PRICE!\n4-8PM\nIn Bar & Lounge Only \nNot Available on Show Nights 
URL:https://www.seaglassoceanside.com/event/8-bargain-burger-night/2026-03-10/
CATEGORIES:Weekly Happenings
ATTACH;FMTTYPE=image/jpeg:https://www.seaglassoceanside.com/wp-content/uploads/2024/08/Web-Size.jpg
END:VEVENT
BEGIN:VEVENT
DTSTART;TZID=UTC:20260303T160000
DTEND;TZID=UTC:20260303T200000
DTSTAMP:20260423T152745
CREATED:20250902T160742Z
LAST-MODIFIED:20260210T153143Z
UID:26884-1772553600-1772568000@www.seaglassoceanside.com
SUMMARY:Tuesday $8 Burger Bargain
DESCRIPTION:GREAT EATS\nJuicy 8oz Prime Burger\nLettuce & Tomato\, Fresh Bun\nCrispy Housemade Chips\nWeekly Secret Burger \nGREAT VIBES\nCozy Bar & Lounge\nSports on 5 HD TVs\nFriends & Fun \nGREAT PRICE!\n4-8PM\nIn Bar & Lounge Only \nNot Available on Show Nights 
URL:https://www.seaglassoceanside.com/event/8-bargain-burger-night/2026-03-03/
CATEGORIES:Weekly Happenings
ATTACH;FMTTYPE=image/jpeg:https://www.seaglassoceanside.com/wp-content/uploads/2024/08/Web-Size.jpg
END:VEVENT
BEGIN:VEVENT
DTSTART;TZID=UTC:20260224T160000
DTEND;TZID=UTC:20260224T200000
DTSTAMP:20260423T152745
CREATED:20250902T160742Z
LAST-MODIFIED:20260210T153143Z
UID:26883-1771948800-1771963200@www.seaglassoceanside.com
SUMMARY:Tuesday $8 Burger Bargain
DESCRIPTION:GREAT EATS\nJuicy 8oz Prime Burger\nLettuce & Tomato\, Fresh Bun\nCrispy Housemade Chips\nWeekly Secret Burger \nGREAT VIBES\nCozy Bar & Lounge\nSports on 5 HD TVs\nFriends & Fun \nGREAT PRICE!\n4-8PM\nIn Bar & Lounge Only \nNot Available on Show Nights 
URL:https://www.seaglassoceanside.com/event/8-bargain-burger-night/2026-02-24/
CATEGORIES:Weekly Happenings
ATTACH;FMTTYPE=image/jpeg:https://www.seaglassoceanside.com/wp-content/uploads/2024/08/Web-Size.jpg
END:VEVENT
BEGIN:VEVENT
DTSTART;TZID=UTC:20260217T160000
DTEND;TZID=UTC:20260217T200000
DTSTAMP:20260423T152745
CREATED:20250902T160742Z
LAST-MODIFIED:20260210T153142Z
UID:26882-1771344000-1771358400@www.seaglassoceanside.com
SUMMARY:Tuesday $8 Burger Bargain
DESCRIPTION:GREAT EATS\nJuicy 8oz Prime Burger\nLettuce & Tomato\, Fresh Bun\nCrispy Housemade Chips\nWeekly Secret Burger \nGREAT VIBES\nCozy Bar & Lounge\nSports on 5 HD TVs\nFriends & Fun \nGREAT PRICE!\n4-8PM\nIn Bar & Lounge Only \nNot Available on Show Nights 
URL:https://www.seaglassoceanside.com/event/8-bargain-burger-night/2026-02-17/
CATEGORIES:Weekly Happenings
ATTACH;FMTTYPE=image/jpeg:https://www.seaglassoceanside.com/wp-content/uploads/2024/08/Web-Size.jpg
END:VEVENT
BEGIN:VEVENT
DTSTART;TZID=UTC:20260210T160000
DTEND;TZID=UTC:20260210T200000
DTSTAMP:20260423T152745
CREATED:20250902T160742Z
LAST-MODIFIED:20260210T153142Z
UID:26881-1770739200-1770753600@www.seaglassoceanside.com
SUMMARY:Tuesday $8 Burger Bargain
DESCRIPTION:GREAT EATS\nJuicy 8oz Prime Burger\nLettuce & Tomato\, Fresh Bun\nCrispy Housemade Chips\nWeekly Secret Burger \nGREAT VIBES\nCozy Bar & Lounge\nSports on 5 HD TVs\nFriends & Fun \nGREAT PRICE!\n4-8PM\nIn Bar & Lounge Only \nNot Available on Show Nights 
URL:https://www.seaglassoceanside.com/event/8-bargain-burger-night/2026-02-10/
CATEGORIES:Weekly Happenings
ATTACH;FMTTYPE=image/jpeg:https://www.seaglassoceanside.com/wp-content/uploads/2024/08/Web-Size.jpg
END:VEVENT
BEGIN:VEVENT
DTSTART;TZID=UTC:20260203T160000
DTEND;TZID=UTC:20260203T200000
DTSTAMP:20260423T152745
CREATED:20250902T160742Z
LAST-MODIFIED:20260210T153139Z
UID:26880-1770134400-1770148800@www.seaglassoceanside.com
SUMMARY:Tuesday $8 Burger Bargain
DESCRIPTION:GREAT EATS\nJuicy 8oz Prime Burger\nLettuce & Tomato\, Fresh Bun\nCrispy Housemade Chips\nWeekly Secret Burger \nGREAT VIBES\nCozy Bar & Lounge\nSports on 5 HD TVs\nFriends & Fun \nGREAT PRICE!\n4-8PM\nIn Bar & Lounge Only \nNot Available on Show Nights 
URL:https://www.seaglassoceanside.com/event/8-bargain-burger-night/2026-02-03/
CATEGORIES:Weekly Happenings
ATTACH;FMTTYPE=image/jpeg:https://www.seaglassoceanside.com/wp-content/uploads/2024/08/Web-Size.jpg
END:VEVENT
BEGIN:VEVENT
DTSTART;TZID=UTC:20260127T160000
DTEND;TZID=UTC:20260127T200000
DTSTAMP:20260423T152745
CREATED:20250902T160742Z
LAST-MODIFIED:20260210T153139Z
UID:26879-1769529600-1769544000@www.seaglassoceanside.com
SUMMARY:Tuesday $8 Burger Bargain
DESCRIPTION:GREAT EATS\nJuicy 8oz Prime Burger\nLettuce & Tomato\, Fresh Bun\nCrispy Housemade Chips\nWeekly Secret Burger \nGREAT VIBES\nCozy Bar & Lounge\nSports on 5 HD TVs\nFriends & Fun \nGREAT PRICE!\n4-8PM\nIn Bar & Lounge Only \nNot Available on Show Nights 
URL:https://www.seaglassoceanside.com/event/8-bargain-burger-night/2026-01-27/
CATEGORIES:Weekly Happenings
ATTACH;FMTTYPE=image/jpeg:https://www.seaglassoceanside.com/wp-content/uploads/2024/08/Web-Size.jpg
END:VEVENT
BEGIN:VEVENT
DTSTART;TZID=UTC:20260120T160000
DTEND;TZID=UTC:20260120T200000
DTSTAMP:20260423T152745
CREATED:20250902T160742Z
LAST-MODIFIED:20260210T153139Z
UID:26878-1768924800-1768939200@www.seaglassoceanside.com
SUMMARY:Tuesday $8 Burger Bargain
DESCRIPTION:GREAT EATS\nJuicy 8oz Prime Burger\nLettuce & Tomato\, Fresh Bun\nCrispy Housemade Chips\nWeekly Secret Burger \nGREAT VIBES\nCozy Bar & Lounge\nSports on 5 HD TVs\nFriends & Fun \nGREAT PRICE!\n4-8PM\nIn Bar & Lounge Only \nNot Available on Show Nights 
URL:https://www.seaglassoceanside.com/event/8-bargain-burger-night/2026-01-20/
CATEGORIES:Weekly Happenings
ATTACH;FMTTYPE=image/jpeg:https://www.seaglassoceanside.com/wp-content/uploads/2024/08/Web-Size.jpg
END:VEVENT
BEGIN:VEVENT
DTSTART;TZID=UTC:20260113T160000
DTEND;TZID=UTC:20260113T200000
DTSTAMP:20260423T152745
CREATED:20250902T160742Z
LAST-MODIFIED:20260210T153139Z
UID:26877-1768320000-1768334400@www.seaglassoceanside.com
SUMMARY:Tuesday $8 Burger Bargain
DESCRIPTION:GREAT EATS\nJuicy 8oz Prime Burger\nLettuce & Tomato\, Fresh Bun\nCrispy Housemade Chips\nWeekly Secret Burger \nGREAT VIBES\nCozy Bar & Lounge\nSports on 5 HD TVs\nFriends & Fun \nGREAT PRICE!\n4-8PM\nIn Bar & Lounge Only \nNot Available on Show Nights 
URL:https://www.seaglassoceanside.com/event/8-bargain-burger-night/2026-01-13/
CATEGORIES:Weekly Happenings
ATTACH;FMTTYPE=image/jpeg:https://www.seaglassoceanside.com/wp-content/uploads/2024/08/Web-Size.jpg
END:VEVENT
BEGIN:VEVENT
DTSTART;TZID=UTC:20260106T160000
DTEND;TZID=UTC:20260106T200000
DTSTAMP:20260423T152745
CREATED:20250902T160742Z
LAST-MODIFIED:20260210T153139Z
UID:26876-1767715200-1767729600@www.seaglassoceanside.com
SUMMARY:Tuesday $8 Burger Bargain
DESCRIPTION:GREAT EATS\nJuicy 8oz Prime Burger\nLettuce & Tomato\, Fresh Bun\nCrispy Housemade Chips\nWeekly Secret Burger \nGREAT VIBES\nCozy Bar & Lounge\nSports on 5 HD TVs\nFriends & Fun \nGREAT PRICE!\n4-8PM\nIn Bar & Lounge Only \nNot Available on Show Nights 
URL:https://www.seaglassoceanside.com/event/8-bargain-burger-night/2026-01-06/
CATEGORIES:Weekly Happenings
ATTACH;FMTTYPE=image/jpeg:https://www.seaglassoceanside.com/wp-content/uploads/2024/08/Web-Size.jpg
END:VEVENT
BEGIN:VEVENT
DTSTART;TZID=UTC:20251230T160000
DTEND;TZID=UTC:20251230T200000
DTSTAMP:20260423T152745
CREATED:20250902T160742Z
LAST-MODIFIED:20260210T153138Z
UID:26875-1767110400-1767124800@www.seaglassoceanside.com
SUMMARY:Tuesday $8 Burger Bargain
DESCRIPTION:GREAT EATS\nJuicy 8oz Prime Burger\nLettuce & Tomato\, Fresh Bun\nCrispy Housemade Chips\nWeekly Secret Burger \nGREAT VIBES\nCozy Bar & Lounge\nSports on 5 HD TVs\nFriends & Fun \nGREAT PRICE!\n4-8PM\nIn Bar & Lounge Only \nNot Available on Show Nights 
URL:https://www.seaglassoceanside.com/event/8-bargain-burger-night/2025-12-30/
CATEGORIES:Weekly Happenings
ATTACH;FMTTYPE=image/jpeg:https://www.seaglassoceanside.com/wp-content/uploads/2024/08/Web-Size.jpg
END:VEVENT
BEGIN:VEVENT
DTSTART;TZID=UTC:20251223T160000
DTEND;TZID=UTC:20251223T200000
DTSTAMP:20260423T152745
CREATED:20250902T160742Z
LAST-MODIFIED:20260210T153138Z
UID:26874-1766505600-1766520000@www.seaglassoceanside.com
SUMMARY:Tuesday $8 Burger Bargain
DESCRIPTION:GREAT EATS\nJuicy 8oz Prime Burger\nLettuce & Tomato\, Fresh Bun\nCrispy Housemade Chips\nWeekly Secret Burger \nGREAT VIBES\nCozy Bar & Lounge\nSports on 5 HD TVs\nFriends & Fun \nGREAT PRICE!\n4-8PM\nIn Bar & Lounge Only \nNot Available on Show Nights 
URL:https://www.seaglassoceanside.com/event/8-bargain-burger-night/2025-12-23/
CATEGORIES:Weekly Happenings
ATTACH;FMTTYPE=image/jpeg:https://www.seaglassoceanside.com/wp-content/uploads/2024/08/Web-Size.jpg
END:VEVENT
BEGIN:VEVENT
DTSTART;TZID=UTC:20251216T160000
DTEND;TZID=UTC:20251216T200000
DTSTAMP:20260423T152745
CREATED:20250902T160742Z
LAST-MODIFIED:20260210T153138Z
UID:26873-1765900800-1765915200@www.seaglassoceanside.com
SUMMARY:Tuesday $8 Burger Bargain
DESCRIPTION:GREAT EATS\nJuicy 8oz Prime Burger\nLettuce & Tomato\, Fresh Bun\nCrispy Housemade Chips\nWeekly Secret Burger \nGREAT VIBES\nCozy Bar & Lounge\nSports on 5 HD TVs\nFriends & Fun \nGREAT PRICE!\n4-8PM\nIn Bar & Lounge Only \nNot Available on Show Nights 
URL:https://www.seaglassoceanside.com/event/8-bargain-burger-night/2025-12-16/
CATEGORIES:Weekly Happenings
ATTACH;FMTTYPE=image/jpeg:https://www.seaglassoceanside.com/wp-content/uploads/2024/08/Web-Size.jpg
END:VEVENT
BEGIN:VEVENT
DTSTART;TZID=UTC:20251209T160000
DTEND;TZID=UTC:20251209T200000
DTSTAMP:20260423T152745
CREATED:20250902T160742Z
LAST-MODIFIED:20260210T153138Z
UID:26872-1765296000-1765310400@www.seaglassoceanside.com
SUMMARY:Tuesday $8 Burger Bargain
DESCRIPTION:GREAT EATS\nJuicy 8oz Prime Burger\nLettuce & Tomato\, Fresh Bun\nCrispy Housemade Chips\nWeekly Secret Burger \nGREAT VIBES\nCozy Bar & Lounge\nSports on 5 HD TVs\nFriends & Fun \nGREAT PRICE!\n4-8PM\nIn Bar & Lounge Only \nNot Available on Show Nights 
URL:https://www.seaglassoceanside.com/event/8-bargain-burger-night/2025-12-09/
CATEGORIES:Weekly Happenings
ATTACH;FMTTYPE=image/jpeg:https://www.seaglassoceanside.com/wp-content/uploads/2024/08/Web-Size.jpg
END:VEVENT
BEGIN:VEVENT
DTSTART;TZID=UTC:20251202T160000
DTEND;TZID=UTC:20251202T200000
DTSTAMP:20260423T152745
CREATED:20250902T160742Z
LAST-MODIFIED:20260210T153138Z
UID:26871-1764691200-1764705600@www.seaglassoceanside.com
SUMMARY:Tuesday $8 Burger Bargain
DESCRIPTION:GREAT EATS\nJuicy 8oz Prime Burger\nLettuce & Tomato\, Fresh Bun\nCrispy Housemade Chips\nWeekly Secret Burger \nGREAT VIBES\nCozy Bar & Lounge\nSports on 5 HD TVs\nFriends & Fun \nGREAT PRICE!\n4-8PM\nIn Bar & Lounge Only \nNot Available on Show Nights 
URL:https://www.seaglassoceanside.com/event/8-bargain-burger-night/2025-12-02/
CATEGORIES:Weekly Happenings
ATTACH;FMTTYPE=image/jpeg:https://www.seaglassoceanside.com/wp-content/uploads/2024/08/Web-Size.jpg
END:VEVENT
BEGIN:VEVENT
DTSTART;TZID=UTC:20251125T160000
DTEND;TZID=UTC:20251125T200000
DTSTAMP:20260423T152745
CREATED:20250902T160742Z
LAST-MODIFIED:20260210T153133Z
UID:26869-1764086400-1764100800@www.seaglassoceanside.com
SUMMARY:Tuesday $8 Burger Bargain
DESCRIPTION:GREAT EATS\nJuicy 8oz Prime Burger\nLettuce & Tomato\, Fresh Bun\nCrispy Housemade Chips\nWeekly Secret Burger \nGREAT VIBES\nCozy Bar & Lounge\nSports on 5 HD TVs\nFriends & Fun \nGREAT PRICE!\n4-8PM\nIn Bar & Lounge Only \nNot Available on Show Nights 
URL:https://www.seaglassoceanside.com/event/8-bargain-burger-night/2025-11-25/
CATEGORIES:Weekly Happenings
ATTACH;FMTTYPE=image/jpeg:https://www.seaglassoceanside.com/wp-content/uploads/2024/08/Web-Size.jpg
END:VEVENT
BEGIN:VEVENT
DTSTART;TZID=UTC:20251118T160000
DTEND;TZID=UTC:20251118T200000
DTSTAMP:20260423T152745
CREATED:20250902T160742Z
LAST-MODIFIED:20260210T153133Z
UID:26868-1763481600-1763496000@www.seaglassoceanside.com
SUMMARY:Tuesday $8 Burger Bargain
DESCRIPTION:GREAT EATS\nJuicy 8oz Prime Burger\nLettuce & Tomato\, Fresh Bun\nCrispy Housemade Chips\nWeekly Secret Burger \nGREAT VIBES\nCozy Bar & Lounge\nSports on 5 HD TVs\nFriends & Fun \nGREAT PRICE!\n4-8PM\nIn Bar & Lounge Only \nNot Available on Show Nights 
URL:https://www.seaglassoceanside.com/event/8-bargain-burger-night/2025-11-18/
CATEGORIES:Weekly Happenings
ATTACH;FMTTYPE=image/jpeg:https://www.seaglassoceanside.com/wp-content/uploads/2024/08/Web-Size.jpg
END:VEVENT
BEGIN:VEVENT
DTSTART;TZID=UTC:20251111T160000
DTEND;TZID=UTC:20251111T200000
DTSTAMP:20260423T152745
CREATED:20250902T160742Z
LAST-MODIFIED:20260210T153133Z
UID:26867-1762876800-1762891200@www.seaglassoceanside.com
SUMMARY:Tuesday $8 Burger Bargain
DESCRIPTION:GREAT EATS\nJuicy 8oz Prime Burger\nLettuce & Tomato\, Fresh Bun\nCrispy Housemade Chips\nWeekly Secret Burger \nGREAT VIBES\nCozy Bar & Lounge\nSports on 5 HD TVs\nFriends & Fun \nGREAT PRICE!\n4-8PM\nIn Bar & Lounge Only \nNot Available on Show Nights 
URL:https://www.seaglassoceanside.com/event/8-bargain-burger-night/2025-11-11/
CATEGORIES:Weekly Happenings
ATTACH;FMTTYPE=image/jpeg:https://www.seaglassoceanside.com/wp-content/uploads/2024/08/Web-Size.jpg
END:VEVENT
BEGIN:VEVENT
DTSTART;TZID=UTC:20251104T160000
DTEND;TZID=UTC:20251104T200000
DTSTAMP:20260423T152745
CREATED:20250902T160742Z
LAST-MODIFIED:20260210T153133Z
UID:26866-1762272000-1762286400@www.seaglassoceanside.com
SUMMARY:Tuesday $8 Burger Bargain
DESCRIPTION:GREAT EATS\nJuicy 8oz Prime Burger\nLettuce & Tomato\, Fresh Bun\nCrispy Housemade Chips\nWeekly Secret Burger \nGREAT VIBES\nCozy Bar & Lounge\nSports on 5 HD TVs\nFriends & Fun \nGREAT PRICE!\n4-8PM\nIn Bar & Lounge Only \nNot Available on Show Nights 
URL:https://www.seaglassoceanside.com/event/8-bargain-burger-night/2025-11-04/
CATEGORIES:Weekly Happenings
ATTACH;FMTTYPE=image/jpeg:https://www.seaglassoceanside.com/wp-content/uploads/2024/08/Web-Size.jpg
END:VEVENT
BEGIN:VEVENT
DTSTART;TZID=UTC:20251028T160000
DTEND;TZID=UTC:20251028T200000
DTSTAMP:20260423T152745
CREATED:20250902T160742Z
LAST-MODIFIED:20260210T153132Z
UID:26865-1761667200-1761681600@www.seaglassoceanside.com
SUMMARY:Tuesday $8 Burger Bargain
DESCRIPTION:GREAT EATS\nJuicy 8oz Prime Burger\nLettuce & Tomato\, Fresh Bun\nCrispy Housemade Chips\nWeekly Secret Burger \nGREAT VIBES\nCozy Bar & Lounge\nSports on 5 HD TVs\nFriends & Fun \nGREAT PRICE!\n4-8PM\nIn Bar & Lounge Only \nNot Available on Show Nights 
URL:https://www.seaglassoceanside.com/event/8-bargain-burger-night/2025-10-28/
CATEGORIES:Weekly Happenings
ATTACH;FMTTYPE=image/jpeg:https://www.seaglassoceanside.com/wp-content/uploads/2024/08/Web-Size.jpg
END:VEVENT
BEGIN:VEVENT
DTSTART;TZID=UTC:20251021T160000
DTEND;TZID=UTC:20251021T200000
DTSTAMP:20260423T152745
CREATED:20250902T160742Z
LAST-MODIFIED:20260210T153132Z
UID:26864-1761062400-1761076800@www.seaglassoceanside.com
SUMMARY:Tuesday $8 Burger Bargain
DESCRIPTION:GREAT EATS\nJuicy 8oz Prime Burger\nLettuce & Tomato\, Fresh Bun\nCrispy Housemade Chips\nWeekly Secret Burger \nGREAT VIBES\nCozy Bar & Lounge\nSports on 5 HD TVs\nFriends & Fun \nGREAT PRICE!\n4-8PM\nIn Bar & Lounge Only \nNot Available on Show Nights 
URL:https://www.seaglassoceanside.com/event/8-bargain-burger-night/2025-10-21/
CATEGORIES:Weekly Happenings
ATTACH;FMTTYPE=image/jpeg:https://www.seaglassoceanside.com/wp-content/uploads/2024/08/Web-Size.jpg
END:VEVENT
BEGIN:VEVENT
DTSTART;TZID=UTC:20251014T160000
DTEND;TZID=UTC:20251014T200000
DTSTAMP:20260423T152745
CREATED:20250902T160742Z
LAST-MODIFIED:20260210T153132Z
UID:26863-1760457600-1760472000@www.seaglassoceanside.com
SUMMARY:Tuesday $8 Burger Bargain
DESCRIPTION:GREAT EATS\nJuicy 8oz Prime Burger\nLettuce & Tomato\, Fresh Bun\nCrispy Housemade Chips\nWeekly Secret Burger \nGREAT VIBES\nCozy Bar & Lounge\nSports on 5 HD TVs\nFriends & Fun \nGREAT PRICE!\n4-8PM\nIn Bar & Lounge Only \nNot Available on Show Nights 
URL:https://www.seaglassoceanside.com/event/8-bargain-burger-night/2025-10-14/
CATEGORIES:Weekly Happenings
ATTACH;FMTTYPE=image/jpeg:https://www.seaglassoceanside.com/wp-content/uploads/2024/08/Web-Size.jpg
END:VEVENT
BEGIN:VEVENT
DTSTART;TZID=UTC:20251007T160000
DTEND;TZID=UTC:20251007T200000
DTSTAMP:20260423T152745
CREATED:20250902T160742Z
LAST-MODIFIED:20260210T153132Z
UID:26862-1759852800-1759867200@www.seaglassoceanside.com
SUMMARY:Tuesday $8 Burger Bargain
DESCRIPTION:GREAT EATS\nJuicy 8oz Prime Burger\nLettuce & Tomato\, Fresh Bun\nCrispy Housemade Chips\nWeekly Secret Burger \nGREAT VIBES\nCozy Bar & Lounge\nSports on 5 HD TVs\nFriends & Fun \nGREAT PRICE!\n4-8PM\nIn Bar & Lounge Only \nNot Available on Show Nights 
URL:https://www.seaglassoceanside.com/event/8-bargain-burger-night/2025-10-07/
CATEGORIES:Weekly Happenings
ATTACH;FMTTYPE=image/jpeg:https://www.seaglassoceanside.com/wp-content/uploads/2024/08/Web-Size.jpg
END:VEVENT
BEGIN:VEVENT
DTSTART;TZID=UTC:20250930T160000
DTEND;TZID=UTC:20250930T200000
DTSTAMP:20260423T152745
CREATED:20250902T160742Z
LAST-MODIFIED:20260210T153132Z
UID:26861-1759248000-1759262400@www.seaglassoceanside.com
SUMMARY:Tuesday $8 Burger Bargain
DESCRIPTION:GREAT EATS\nJuicy 8oz Prime Burger\nLettuce & Tomato\, Fresh Bun\nCrispy Housemade Chips\nWeekly Secret Burger \nGREAT VIBES\nCozy Bar & Lounge\nSports on 5 HD TVs\nFriends & Fun \nGREAT PRICE!\n4-8PM\nIn Bar & Lounge Only \nNot Available on Show Nights 
URL:https://www.seaglassoceanside.com/event/8-bargain-burger-night/2025-09-30/
CATEGORIES:Weekly Happenings
ATTACH;FMTTYPE=image/jpeg:https://www.seaglassoceanside.com/wp-content/uploads/2024/08/Web-Size.jpg
END:VEVENT
END:VCALENDAR